BEGIN:VCALENDAR
VERSION:2.0
PRODID:-//Devpost\, Inc.//Real World AI Agents//EN
CALSCALE:GREGORIAN
BEGIN:VTIMEZONE
TZID:Asia/Jakarta
BEGIN:STANDARD
DTSTART:19631231T233000
TZOFFSETFROM:+0730
TZOFFSETTO:+0700
TZNAME:WIB
END:STANDARD
END:VTIMEZONE
BEGIN:VEVENT
DTSTAMP:20260420T171550Z
UID:f2cfb3d5-aa5e-4862-a9f7-de5bc3a6772d
DTSTART;TZID=Asia/Jakarta:20260508T100000
DTEND;TZID=Asia/Jakarta:20260509T123000
DESCRIPTION:https://real-world-ai-agents.devpost.com/
LOCATION:Jl. Jalur Sutera Bar.\, RW.004\, Panunggangan\, Kec. Pinang\, Kota
  Tangerang\, Banten\, Indonesia
SUMMARY:Real World AI Agents
BEGIN:VALARM
ACTION:DISPLAY
TRIGGER:-P3D
SUMMARY:Get ready\, the hacking starts in 3 days.
END:VALARM
END:VEVENT
END:VCALENDAR
